BEGIN:VCALENDAR
VERSION:2.0
PRODID:-//IACSWA - ECPv6.15.20//NONSGML v1.0//EN
CALSCALE:GREGORIAN
METHOD:PUBLISH
X-ORIGINAL-URL:https://iacswa.org
X-WR-CALDESC:Events for IACSWA
REFRESH-INTERVAL;VALUE=DURATION:PT1H
X-Robots-Tag:noindex
X-PUBLISHED-TTL:PT1H
BEGIN:VTIMEZONE
TZID:America/Los_Angeles
BEGIN:DAYLIGHT
TZOFFSETFROM:-0800
TZOFFSETTO:-0700
TZNAME:PDT
DTSTART:20230312T100000
END:DAYLIGHT
BEGIN:STANDARD
TZOFFSETFROM:-0700
TZOFFSETTO:-0800
TZNAME:PST
DTSTART:20231105T090000
END:STANDARD
BEGIN:DAYLIGHT
TZOFFSETFROM:-0800
TZOFFSETTO:-0700
TZNAME:PDT
DTSTART:20240310T100000
END:DAYLIGHT
BEGIN:STANDARD
TZOFFSETFROM:-0700
TZOFFSETTO:-0800
TZNAME:PST
DTSTART:20241103T090000
END:STANDARD
BEGIN:DAYLIGHT
TZOFFSETFROM:-0800
TZOFFSETTO:-0700
TZNAME:PDT
DTSTART:20250309T100000
END:DAYLIGHT
BEGIN:STANDARD
TZOFFSETFROM:-0700
TZOFFSETTO:-0800
TZNAME:PST
DTSTART:20251102T090000
END:STANDARD
END:VTIMEZONE
BEGIN:VEVENT
DTSTART;TZID=America/Los_Angeles:20240307T100000
DTEND;TZID=America/Los_Angeles:20240307T150000
DTSTAMP:20260422T032341
CREATED:20240120T000612Z
LAST-MODIFIED:20240302T002746Z
UID:8278-1709805600-1709823600@iacswa.org
SUMMARY:EARLY START Bellevue
DESCRIPTION:
URL:https://iacswa.org/event/early-start-bellevue-2/
LOCATION:North Bellevue Community Center\, 4063 148th Ave NE\, Bellevue\, WA 98007\, USA
END:VEVENT
BEGIN:VEVENT
DTSTART;TZID=America/Los_Angeles:20240307T180000
DTEND;TZID=America/Los_Angeles:20240307T190000
DTSTAMP:20260422T032341
CREATED:20240210T180519Z
LAST-MODIFIED:20240302T002746Z
UID:8374-1709834400-1709838000@iacswa.org
SUMMARY:Anvi IWD Workshop -5 Secrets to Confident Communication for Every Woman
DESCRIPTION:http://tinyurl.com/5secretsconfidentcommunication
URL:https://iacswa.org/event/anvi-iwd-workshop-5-secrets-to-confident-communication-for-every-woman/
LOCATION:WA
END:VEVENT
BEGIN:VEVENT
DTSTART;TZID=America/Los_Angeles:20240308T103000
DTEND;TZID=America/Los_Angeles:20240308T140000
DTSTAMP:20260422T032341
CREATED:20240120T000612Z
LAST-MODIFIED:20240302T002746Z
UID:8279-1709893800-1709906400@iacswa.org
SUMMARY:SENIORS Sammamish Popup
DESCRIPTION:
URL:https://iacswa.org/event/seniors-sammamish-popup-22/
LOCATION:Beaver Lake Lodge\, 25101 SE 24th St\, Sammamish\, WA 98075\, USA
END:VEVENT
BEGIN:VEVENT
DTSTART;TZID=America/Los_Angeles:20240311T103000
DTEND;TZID=America/Los_Angeles:20240311T140000
DTSTAMP:20260422T032341
CREATED:20240120T000613Z
LAST-MODIFIED:20240309T004248Z
UID:8280-1710153000-1710165600@iacswa.org
SUMMARY:SENIORS Sammamish Popup
DESCRIPTION:
URL:https://iacswa.org/event/seniors-sammamish-popup-23/
LOCATION:Beaver Lake Lodge\, 25101 SE 24th St\, Sammamish\, WA 98075\, USA
END:VEVENT
BEGIN:VEVENT
DTSTART;TZID=America/Los_Angeles:20240312T123000
DTEND;TZID=America/Los_Angeles:20240312T150000
DTSTAMP:20260422T032341
CREATED:20240120T000613Z
LAST-MODIFIED:20240309T004248Z
UID:8281-1710246600-1710255600@iacswa.org
SUMMARY:SENIORS Kent Popup
DESCRIPTION:
URL:https://iacswa.org/event/seniors-kent-popup-4/
LOCATION:Kent\, WA\, USA
END:VEVENT
BEGIN:VEVENT
DTSTART;TZID=America/Los_Angeles:20240313T100000
DTEND;TZID=America/Los_Angeles:20240313T110000
DTSTAMP:20260422T032341
CREATED:20240120T000613Z
LAST-MODIFIED:20240309T004248Z
UID:8282-1710324000-1710327600@iacswa.org
SUMMARY:EARLY START Maple Valley
DESCRIPTION:
URL:https://iacswa.org/event/early-start-maple-valley-8/
LOCATION:Maple Valley\, WA 98038\, USA
END:VEVENT
BEGIN:VEVENT
DTSTART;TZID=America/Los_Angeles:20240313T103000
DTEND;TZID=America/Los_Angeles:20240313T140000
DTSTAMP:20260422T032341
CREATED:20240120T000613Z
LAST-MODIFIED:20240309T004248Z
UID:8284-1710325800-1710338400@iacswa.org
SUMMARY:SENIORS Sammamish Popup
DESCRIPTION:
URL:https://iacswa.org/event/seniors-sammamish-popup-24/
LOCATION:Beaver Lake Lodge\, 25101 SE 24th St\, Sammamish\, WA 98075\, USA
END:VEVENT
BEGIN:VEVENT
DTSTART;TZID=America/Los_Angeles:20240313T110000
DTEND;TZID=America/Los_Angeles:20240313T140000
DTSTAMP:20260422T032341
CREATED:20240120T000613Z
LAST-MODIFIED:20240309T004248Z
UID:8283-1710327600-1710338400@iacswa.org
SUMMARY:OUTREACH Crossroads
DESCRIPTION:
URL:https://iacswa.org/event/outreach-crossroads-8/
LOCATION:Crossroads\, Bellevue\, WA\, USA
END:VEVENT
BEGIN:VEVENT
DTSTART;TZID=America/Los_Angeles:20240313T113000
DTEND;TZID=America/Los_Angeles:20240313T133000
DTSTAMP:20260422T032341
CREATED:20240120T000614Z
LAST-MODIFIED:20240309T004248Z
UID:8285-1710329400-1710336600@iacswa.org
SUMMARY:SENIORS Redmond Lunch
DESCRIPTION:
URL:https://iacswa.org/event/seniors-redmond-lunch-2/
LOCATION:St. Jude Catholic Church\, 10526 166th Ave NE\, Redmond\, WA 98052\, USA
END:VEVENT
BEGIN:VEVENT
DTSTART;TZID=America/Los_Angeles:20240314T100000
DTEND;TZID=America/Los_Angeles:20240314T143000
DTSTAMP:20260422T032341
CREATED:20240120T000626Z
LAST-MODIFIED:20240309T004249Z
UID:8287-1710410400-1710426600@iacswa.org
SUMMARY:SENIORS Bellevue Popup
DESCRIPTION:
URL:https://iacswa.org/event/seniors-bellevue-popup-9/
LOCATION:North Bellevue Community Center\, 4063 148th Ave NE\, Bellevue\, WA 98007\, USA
END:VEVENT
BEGIN:VEVENT
DTSTART;TZID=America/Los_Angeles:20240314T100000
DTEND;TZID=America/Los_Angeles:20240314T150000
DTSTAMP:20260422T032341
CREATED:20240120T000626Z
LAST-MODIFIED:20240309T004248Z
UID:8286-1710410400-1710428400@iacswa.org
SUMMARY:EARLY START Bellevue
DESCRIPTION:
URL:https://iacswa.org/event/early-start-bellevue-3/
LOCATION:North Bellevue Community Center\, 4063 148th Ave NE\, Bellevue\, WA 98007\, USA
END:VEVENT
BEGIN:VEVENT
DTSTART;TZID=America/Los_Angeles:20240314T190000
DTEND;TZID=America/Los_Angeles:20240314T200000
DTSTAMP:20260422T032341
CREATED:20240210T180534Z
LAST-MODIFIED:20240309T004249Z
UID:8375-1710442800-1710446400@iacswa.org
SUMMARY:Saathi Zoom session with Malika Bains
DESCRIPTION:
URL:https://iacswa.org/event/sathee-zoom-session-with-malika-bains-2/
LOCATION:WA
END:VEVENT
BEGIN:VEVENT
DTSTART;TZID=America/Los_Angeles:20240315T103000
DTEND;TZID=America/Los_Angeles:20240315T140000
DTSTAMP:20260422T032341
CREATED:20240120T000626Z
LAST-MODIFIED:20240309T004249Z
UID:8288-1710498600-1710511200@iacswa.org
SUMMARY:SENIORS Sammamish Popup
DESCRIPTION:
URL:https://iacswa.org/event/seniors-sammamish-popup-25/
LOCATION:Beaver Lake Lodge\, 25101 SE 24th St\, Sammamish\, WA 98075\, USA
END:VEVENT
BEGIN:VEVENT
DTSTART;TZID=America/Los_Angeles:20240316T100000
DTEND;TZID=America/Los_Angeles:20240316T130000
DTSTAMP:20260422T032341
CREATED:20240221T201051Z
LAST-MODIFIED:20240222T020426Z
UID:8398-1710583200-1710594000@iacswa.org
SUMMARY:Youth Leadership Restoration Project
DESCRIPTION:
URL:https://iacswa.org/event/yo-restoration-project/
LOCATION:WA
ORGANIZER;CN="IACS Youth Leadership Program":MAILTO:ylpcoordinator@iaww.org
END:VEVENT
BEGIN:VEVENT
DTSTART;TZID=America/Los_Angeles:20240318T103000
DTEND;TZID=America/Los_Angeles:20240318T140000
DTSTAMP:20260422T032341
CREATED:20240120T000626Z
LAST-MODIFIED:20240316T004336Z
UID:8289-1710757800-1710770400@iacswa.org
SUMMARY:SENIORS Sammamish Popup
DESCRIPTION:
URL:https://iacswa.org/event/seniors-sammamish-popup-26/
LOCATION:Beaver Lake Lodge\, 25101 SE 24th St\, Sammamish\, WA 98075\, USA
END:VEVENT
BEGIN:VEVENT
DTSTART;VALUE=DATE:20240319
DTEND;VALUE=DATE:20240320
DTSTAMP:20260422T032341
CREATED:20240224T002834Z
LAST-MODIFIED:20240316T004336Z
UID:8404-1710806400-1710892799@iacswa.org
SUMMARY:EARLY START Community Cafe
DESCRIPTION:
URL:https://iacswa.org/event/early-start-community-cafe/
LOCATION:Bothell
END:VEVENT
BEGIN:VEVENT
DTSTART;TZID=America/Los_Angeles:20240319T103000
DTEND;TZID=America/Los_Angeles:20240319T140000
DTSTAMP:20260422T032341
CREATED:20240120T000627Z
LAST-MODIFIED:20240316T004336Z
UID:8290-1710844200-1710856800@iacswa.org
SUMMARY:SENIORS Bothell Popup
DESCRIPTION:
URL:https://iacswa.org/event/seniors-bothell-popup-4/
LOCATION:Bothell\, WA\, USA
END:VEVENT
BEGIN:VEVENT
DTSTART;TZID=America/Los_Angeles:20240320T100000
DTEND;TZID=America/Los_Angeles:20240320T110000
DTSTAMP:20260422T032341
CREATED:20240120T000627Z
LAST-MODIFIED:20240316T004336Z
UID:8291-1710928800-1710932400@iacswa.org
SUMMARY:EARLY START Maple Valley
DESCRIPTION:
URL:https://iacswa.org/event/early-start-maple-valley-9/
LOCATION:Maple Valley\, WA 98038\, USA
END:VEVENT
BEGIN:VEVENT
DTSTART;TZID=America/Los_Angeles:20240320T103000
DTEND;TZID=America/Los_Angeles:20240320T140000
DTSTAMP:20260422T032341
CREATED:20240120T000627Z
LAST-MODIFIED:20240316T004336Z
UID:8292-1710930600-1710943200@iacswa.org
SUMMARY:SENIORS Sammamish Popup
DESCRIPTION:
URL:https://iacswa.org/event/seniors-sammamish-popup-27/
LOCATION:Beaver Lake Lodge\, 25101 SE 24th St\, Sammamish\, WA 98075\, USA
END:VEVENT
BEGIN:VEVENT
DTSTART;TZID=America/Los_Angeles:20240320T110000
DTEND;TZID=America/Los_Angeles:20240320T140000
DTSTAMP:20260422T032341
CREATED:20240120T000627Z
LAST-MODIFIED:20240316T004336Z
UID:8293-1710932400-1710943200@iacswa.org
SUMMARY:OUTREACH Crossroads
DESCRIPTION:
URL:https://iacswa.org/event/outreach-crossroads-9/
LOCATION:Crossroads\, Bellevue\, WA\, USA
END:VEVENT
BEGIN:VEVENT
DTSTART;TZID=America/Los_Angeles:20240321T100000
DTEND;TZID=America/Los_Angeles:20240321T143000
DTSTAMP:20260422T032341
CREATED:20240120T000627Z
LAST-MODIFIED:20240316T004336Z
UID:8294-1711015200-1711031400@iacswa.org
SUMMARY:SENIORS Bellevue Popup
DESCRIPTION:
URL:https://iacswa.org/event/seniors-bellevue-popup-10/
LOCATION:North Bellevue Community Center\, 4063 148th Ave NE\, Bellevue\, WA 98007\, USA
END:VEVENT
BEGIN:VEVENT
DTSTART;TZID=America/Los_Angeles:20240321T100000
DTEND;TZID=America/Los_Angeles:20240321T150000
DTSTAMP:20260422T032341
CREATED:20240120T000628Z
LAST-MODIFIED:20240316T004336Z
UID:8295-1711015200-1711033200@iacswa.org
SUMMARY:EARLY START Bellevue
DESCRIPTION:
URL:https://iacswa.org/event/early-start-bellevue-4/
LOCATION:North Bellevue Community Center\, 4063 148th Ave NE\, Bellevue\, WA 98007\, USA
END:VEVENT
BEGIN:VEVENT
DTSTART;TZID=America/Los_Angeles:20240322T103000
DTEND;TZID=America/Los_Angeles:20240322T140000
DTSTAMP:20260422T032341
CREATED:20240120T000640Z
LAST-MODIFIED:20240316T004336Z
UID:8296-1711103400-1711116000@iacswa.org
SUMMARY:SENIORS Sammamish Popup
DESCRIPTION:
URL:https://iacswa.org/event/seniors-sammamish-popup-28/
LOCATION:Beaver Lake Lodge\, 25101 SE 24th St\, Sammamish\, WA 98075\, USA
END:VEVENT
BEGIN:VEVENT
DTSTART;TZID=America/Los_Angeles:20240322T180000
DTEND;TZID=America/Los_Angeles:20240322T210000
DTSTAMP:20260422T032341
CREATED:20240210T180547Z
LAST-MODIFIED:20240323T005759Z
UID:8376-1711130400-1711141200@iacswa.org
SUMMARY:Saathi In-person Meet
DESCRIPTION:
URL:https://iacswa.org/event/sathee-in-person-meet/
LOCATION:WA
END:VEVENT
BEGIN:VEVENT
DTSTART;TZID=America/Los_Angeles:20240323T080000
DTEND;TZID=America/Los_Angeles:20240323T150000
DTSTAMP:20260422T032341
CREATED:20240120T000640Z
LAST-MODIFIED:20240323T005759Z
UID:8297-1711180800-1711206000@iacswa.org
SUMMARY:YOUTH Program- Youth Mental Health Workshop
DESCRIPTION:
URL:https://iacswa.org/event/youth-program-yb-ya-mental-health-first-aid-tc/
LOCATION:WA
END:VEVENT
BEGIN:VEVENT
DTSTART;TZID=America/Los_Angeles:20240324T093000
DTEND;TZID=America/Los_Angeles:20240324T123000
DTSTAMP:20260422T032341
CREATED:20240221T200838Z
LAST-MODIFIED:20240222T021008Z
UID:8396-1711272600-1711283400@iacswa.org
SUMMARY:Youth Leadership Adopt-a-Street Project
DESCRIPTION:
URL:https://iacswa.org/event/yc-project-adopt-a-street/
LOCATION:WA
ORGANIZER;CN="IACS Youth Leadership Program":MAILTO:ylpcoordinator@iaww.org
END:VEVENT
BEGIN:VEVENT
DTSTART;TZID=America/Los_Angeles:20240325T103000
DTEND;TZID=America/Los_Angeles:20240325T140000
DTSTAMP:20260422T032341
CREATED:20240120T000641Z
LAST-MODIFIED:20240323T005759Z
UID:8298-1711362600-1711375200@iacswa.org
SUMMARY:SENIORS Sammamish Popup
DESCRIPTION:
URL:https://iacswa.org/event/seniors-sammamish-popup-29/
LOCATION:Beaver Lake Lodge\, 25101 SE 24th St\, Sammamish\, WA 98075\, USA
END:VEVENT
BEGIN:VEVENT
DTSTART;TZID=America/Los_Angeles:20240326T123000
DTEND;TZID=America/Los_Angeles:20240326T150000
DTSTAMP:20260422T032341
CREATED:20240120T000641Z
LAST-MODIFIED:20240323T005759Z
UID:8299-1711456200-1711465200@iacswa.org
SUMMARY:SENIORS Kent Popup
DESCRIPTION:
URL:https://iacswa.org/event/seniors-kent-popup-5/
LOCATION:Kent\, WA\, USA
END:VEVENT
BEGIN:VEVENT
DTSTART;VALUE=DATE:20240327
DTEND;VALUE=DATE:20240328
DTSTAMP:20260422T032341
CREATED:20240224T002858Z
LAST-MODIFIED:20240323T005759Z
UID:8405-1711497600-1711583999@iacswa.org
SUMMARY:EARLY START Community Cafe
DESCRIPTION:
URL:https://iacswa.org/event/early-start-community-cafe-2/
LOCATION:Maple Valley\, WA 98038\, USA
END:VEVENT
BEGIN:VEVENT
DTSTART;TZID=America/Los_Angeles:20240327T100000
DTEND;TZID=America/Los_Angeles:20240327T110000
DTSTAMP:20260422T032341
CREATED:20240120T000641Z
LAST-MODIFIED:20240323T005759Z
UID:8302-1711533600-1711537200@iacswa.org
SUMMARY:EARLY START Maple Valley
DESCRIPTION:
URL:https://iacswa.org/event/early-start-maple-valley-10/
LOCATION:Maple Valley\, WA 98038\, USA
END:VEVENT
END:VCALENDAR