BEGIN:VCALENDAR
VERSION:2.0
PRODID:-//IACSWA - ECPv6.15.20//NONSGML v1.0//EN
CALSCALE:GREGORIAN
METHOD:PUBLISH
X-ORIGINAL-URL:https://iacswa.org
X-WR-CALDESC:Events for IACSWA
REFRESH-INTERVAL;VALUE=DURATION:PT1H
X-Robots-Tag:noindex
X-PUBLISHED-TTL:PT1H
BEGIN:VTIMEZONE
TZID:America/Los_Angeles
BEGIN:DAYLIGHT
TZOFFSETFROM:-0800
TZOFFSETTO:-0700
TZNAME:PDT
DTSTART:20240310T100000
END:DAYLIGHT
BEGIN:STANDARD
TZOFFSETFROM:-0700
TZOFFSETTO:-0800
TZNAME:PST
DTSTART:20241103T090000
END:STANDARD
BEGIN:DAYLIGHT
TZOFFSETFROM:-0800
TZOFFSETTO:-0700
TZNAME:PDT
DTSTART:20250309T100000
END:DAYLIGHT
BEGIN:STANDARD
TZOFFSETFROM:-0700
TZOFFSETTO:-0800
TZNAME:PST
DTSTART:20251102T090000
END:STANDARD
BEGIN:DAYLIGHT
TZOFFSETFROM:-0800
TZOFFSETTO:-0700
TZNAME:PDT
DTSTART:20260308T100000
END:DAYLIGHT
BEGIN:STANDARD
TZOFFSETFROM:-0700
TZOFFSETTO:-0800
TZNAME:PST
DTSTART:20261101T090000
END:STANDARD
END:VTIMEZONE
BEGIN:VEVENT
DTSTART;TZID=America/Los_Angeles:20250604T100000
DTEND;TZID=America/Los_Angeles:20250604T110000
DTSTAMP:20260420T075413
CREATED:20250325T013327Z
LAST-MODIFIED:20250528T211634Z
UID:9867-1749031200-1749034800@iacswa.org
SUMMARY:EARLY START Maple Valley
DESCRIPTION:
URL:https://iacswa.org/event/early-start-maple-valley-72/
LOCATION:Maple Valley\, Maplevalley\, WA\, United States
END:VEVENT
BEGIN:VEVENT
DTSTART;TZID=America/Los_Angeles:20250604T103000
DTEND;TZID=America/Los_Angeles:20250604T140000
DTSTAMP:20260420T075413
CREATED:20250325T013327Z
LAST-MODIFIED:20250528T211634Z
UID:9868-1749033000-1749045600@iacswa.org
SUMMARY:SENIORS Sammamish Popup
DESCRIPTION:
URL:https://iacswa.org/event/seniors-sammamish-popup-216/
LOCATION:Beaver Lake Lodge\, 25099 SE 24th St\, Kirkland\, WA\, United States
END:VEVENT
BEGIN:VEVENT
DTSTART;TZID=America/Los_Angeles:20250604T110000
DTEND;TZID=America/Los_Angeles:20250604T140000
DTSTAMP:20260420T075413
CREATED:20250325T013326Z
LAST-MODIFIED:20250528T211634Z
UID:9866-1749034800-1749045600@iacswa.org
SUMMARY:OUTREACH Crossroads
DESCRIPTION:
URL:https://iacswa.org/event/outreach-crossroads-72/
LOCATION:Crossroads\, Bellevue\, WA\, United States
END:VEVENT
END:VCALENDAR